BEGIN:VCALENDAR
VERSION:2.0
PRODID:spatie/icalendar-generator
DESCRIPTION:Events from Insight Firearms Training Development
X-WR-CALDESC:Events from Insight Firearms Training Development
REFRESH-INTERVAL;VALUE=DURATION:PT1440M
X-PUBLISHED-TTL:PT1440M
BEGIN:VTIMEZONE
TZID:America/Phoenix
BEGIN:STANDARD
DTSTART:20250705T180000Z
TZOFFSETFROM:-0700
TZOFFSETTO:-0700
END:STANDARD
END:VTIMEZONE
BEGIN:VTIMEZONE
TZID:UTC
BEGIN:STANDARD
DTSTART:20250727T135638Z
TZOFFSETFROM:+0000
TZOFFSETTO:+0000
END:STANDARD
END:VTIMEZONE
BEGIN:VEVENT
UID:4549-2623
DTSTAMP:20260423T135638Z
SUMMARY:Shooter Development
LOCATION:
ORGANIZER;CN=Sherrie Seibert:MAILTO:Sherrie@insightshootingcenter.com
DTSTART;TZID=America/Phoenix:20260401T180000
DTEND;TZID=America/Phoenix:20260401T200000
X-ALT-DESC;FMTTYPE=TEXT/HTML:
CATEGORIES:General
URL;VALUE=URI:https://insightfirearmstraining.com/my-calendar/?mc_id=4549
METHOD:PUBLISH
END:VEVENT
BEGIN:VEVENT
UID:4322-2520
DTSTAMP:20260423T135638Z
SUMMARY:Happy Easter
LOCATION:
ORGANIZER;CN=Sherrie Seibert:MAILTO:Sherrie@insightshootingcenter.com
DTSTART;TZID=America/Phoenix;VALUE=DATE:20260405
DTEND;TZID=America/Phoenix;VALUE=DATE:20260406
X-ALT-DESC;FMTTYPE=TEXT/HTML:
CATEGORIES:General
URL;VALUE=URI:https://insightfirearmstraining.com/my-calendar/?mc_id=4322
METHOD:PUBLISH
END:VEVENT
BEGIN:VEVENT
UID:4521-2599
DTSTAMP:20260423T135638Z
SUMMARY:League Season 2
LOCATION:
ORGANIZER;CN=Sherrie Seibert:MAILTO:Sherrie@insightshootingcenter.com
RRULE:FREQ=WEEKLY;UNTIL=20260413T000000Z
DTSTART;TZID=America/Phoenix:20260406T180000
DTEND;TZID=America/Phoenix:20260406T210000
X-ALT-DESC;FMTTYPE=TEXT/HTML:
CATEGORIES:General
URL;VALUE=URI:https://insightfirearmstraining.com/my-calendar/?mc_id=4521
METHOD:PUBLISH
END:VEVENT
BEGIN:VEVENT
UID:4440-2552
DTSTAMP:20260423T135638Z
SUMMARY:Deadly Accuracy
LOCATION:
ORGANIZER;CN=Sherrie Seibert:MAILTO:Sherrie@insightshootingcenter.com
DTSTART;TZID=America/Phoenix:20260411T100000
DTEND;TZID=America/Phoenix:20260412T180000
X-ALT-DESC;FMTTYPE=TEXT/HTML:
CATEGORIES:General
URL;VALUE=URI:https://insightfirearmstraining.com/my-calendar/?mc_id=4440
METHOD:PUBLISH
END:VEVENT
BEGIN:VEVENT
UID:4440-2552
DTSTAMP:20260423T135638Z
SUMMARY:Deadly Accuracy
LOCATION:
ORGANIZER;CN=Sherrie Seibert:MAILTO:Sherrie@insightshootingcenter.com
DTSTART;TZID=America/Phoenix:20260411T100000
DTEND;TZID=America/Phoenix:20260412T180000
X-ALT-DESC;FMTTYPE=TEXT/HTML:
CATEGORIES:General
URL;VALUE=URI:https://insightfirearmstraining.com/my-calendar/?mc_id=4440
METHOD:PUBLISH
END:VEVENT
BEGIN:VEVENT
UID:4522-2600
DTSTAMP:20260423T135638Z
SUMMARY:League Banquet
LOCATION:
ORGANIZER;CN=Sherrie Seibert:MAILTO:Sherrie@insightshootingcenter.com
DTSTART;TZID=America/Phoenix:20260413T190000
DTEND;TZID=America/Phoenix:20260413T210000
X-ALT-DESC;FMTTYPE=TEXT/HTML:
CATEGORIES:General
URL;VALUE=URI:https://insightfirearmstraining.com/my-calendar/?mc_id=4522
METHOD:PUBLISH
END:VEVENT
BEGIN:VEVENT
UID:4458-2580
DTSTAMP:20260423T135638Z
SUMMARY:Speed Shooting
LOCATION:
ORGANIZER;CN=Sherrie Seibert:MAILTO:Sherrie@insightshootingcenter.com
DTSTART;TZID=America/Phoenix:20260416T100000
DTEND;TZID=America/Phoenix:20260417T170000
X-ALT-DESC;FMTTYPE=TEXT/HTML:
CATEGORIES:General
URL;VALUE=URI:https://insightfirearmstraining.com/my-calendar/?mc_id=4458
METHOD:PUBLISH
END:VEVENT
BEGIN:VEVENT
UID:4458-2580
DTSTAMP:20260423T135638Z
SUMMARY:Speed Shooting
LOCATION:
ORGANIZER;CN=Sherrie Seibert:MAILTO:Sherrie@insightshootingcenter.com
DTSTART;TZID=America/Phoenix:20260416T100000
DTEND;TZID=America/Phoenix:20260417T170000
X-ALT-DESC;FMTTYPE=TEXT/HTML:
CATEGORIES:General
URL;VALUE=URI:https://insightfirearmstraining.com/my-calendar/?mc_id=4458
METHOD:PUBLISH
END:VEVENT
BEGIN:VEVENT
UID:4555-2629
DTSTAMP:20260423T135638Z
SUMMARY:League Season 3
LOCATION:
ORGANIZER;CN=Sherrie Seibert:MAILTO:Sherrie@insightshootingcenter.com
RRULE:FREQ=WEEKLY;UNTIL=20260525T000000Z
DTSTART;TZID=America/Phoenix:20260427T180000
DTEND;TZID=America/Phoenix:20260427T210000
X-ALT-DESC;FMTTYPE=TEXT/HTML:
CATEGORIES:General
URL;VALUE=URI:https://insightfirearmstraining.com/my-calendar/?mc_id=4555
METHOD:PUBLISH
END:VEVENT
BEGIN:VEVENT
UID:4569-2635
DTSTAMP:20260423T135638Z
SUMMARY:Shooter Development
LOCATION:
ORGANIZER;CN=Sherrie Seibert:MAILTO:Sherrie@insightshootingcenter.com
RRULE:FREQ=WEEKLY;UNTIL=20260513T000000Z
DTSTART;TZID=America/Phoenix:20260429T180000
DTEND;TZID=America/Phoenix:20260429T200000
X-ALT-DESC;FMTTYPE=TEXT/HTML:
CATEGORIES:General
URL;VALUE=URI:https://insightfirearmstraining.com/my-calendar/?mc_id=4569
METHOD:PUBLISH
END:VEVENT
END:VCALENDAR